	BEGIN:VCALENDAR
VERSION:2.0
PRODID:-//Consejo General de Hermandades y Cofradías de Palma del Río - ECPv6.15.20//NONSGML v1.0//EN
CALSCALE:GREGORIAN
METHOD:PUBLISH
X-ORIGINAL-URL:https://hermandadespalmadelrio.com
X-WR-CALDESC:Eventos para Consejo General de Hermandades y Cofradías de Palma del Río
REFRESH-INTERVAL;VALUE=DURATION:PT1H
X-Robots-Tag:noindex
X-PUBLISHED-TTL:PT1H
BEGIN:VTIMEZONE
TZID:Europe/Madrid
BEGIN:DAYLIGHT
TZOFFSETFROM:+0100
TZOFFSETTO:+0200
TZNAME:CEST
DTSTART:20250330T010000
END:DAYLIGHT
BEGIN:STANDARD
TZOFFSETFROM:+0200
TZOFFSETTO:+0100
TZNAME:CET
DTSTART:20251026T010000
END:STANDARD
BEGIN:DAYLIGHT
TZOFFSETFROM:+0100
TZOFFSETTO:+0200
TZNAME:CEST
DTSTART:20260329T010000
END:DAYLIGHT
BEGIN:STANDARD
TZOFFSETFROM:+0200
TZOFFSETTO:+0100
TZNAME:CET
DTSTART:20261025T010000
END:STANDARD
BEGIN:DAYLIGHT
TZOFFSETFROM:+0100
TZOFFSETTO:+0200
TZNAME:CEST
DTSTART:20270328T010000
END:DAYLIGHT
BEGIN:STANDARD
TZOFFSETFROM:+0200
TZOFFSETTO:+0100
TZNAME:CET
DTSTART:20271031T010000
END:STANDARD
END:VTIMEZONE
BEGIN:VEVENT
DTSTART;TZID=Europe/Madrid:20260116T190000
DTEND;TZID=Europe/Madrid:20260116T200000
DTSTAMP:20260420T104201
CREATED:20260114T190937Z
LAST-MODIFIED:20260114T190937Z
UID:7237-1768590000-1768593600@hermandadespalmadelrio.com
SUMMARY:Función Principal San Sebastián
DESCRIPTION:
URL:https://hermandadespalmadelrio.com/evento/funcion-principal-san-sebastian/
LOCATION:Parroquia de Nuestra Señora de la Asunción\, Calle Cardenal Portocarrero\, S/N\, Palma del Río\, Córdoba\, 14700\, España
END:VEVENT
BEGIN:VEVENT
DTSTART;TZID=Europe/Madrid:20260117T170000
DTEND;TZID=Europe/Madrid:20260117T213000
DTSTAMP:20260420T104201
CREATED:20260114T190850Z
LAST-MODIFIED:20260114T190850Z
UID:7235-1768669200-1768685400@hermandadespalmadelrio.com
SUMMARY:Salida de Gloria de San Sebastián Mártir.
DESCRIPTION:
URL:https://hermandadespalmadelrio.com/evento/salida-de-gloria-de-san-sebastian-martir/
LOCATION:Parroquia de Nuestra Señora de la Asunción\, Calle Cardenal Portocarrero\, S/N\, Palma del Río\, Córdoba\, 14700\, España
END:VEVENT
BEGIN:VEVENT
DTSTART;TZID=Europe/Madrid:20260124T190000
DTEND;TZID=Europe/Madrid:20260124T200000
DTSTAMP:20260420T104201
CREATED:20260114T191013Z
LAST-MODIFIED:20260114T191013Z
UID:7239-1769281200-1769284800@hermandadespalmadelrio.com
SUMMARY:Conmemoración Mensual a María Auxiliadora
DESCRIPTION:
URL:https://hermandadespalmadelrio.com/evento/conmemoracion-mensual-a-maria-auxiliadora/
LOCATION:Iglesia de María Auxiliadora- Salesianos\, Avenida de María Auxiliadora\, 2\, Palma Del Río\, Córdoba\, 14700\, España
END:VEVENT
END:VCALENDAR